BEGIN:VCALENDAR
VERSION:2.0
PRODID:-//Pro-Vision Inc - ECPv6.15.20//NONSGML v1.0//EN
CALSCALE:GREGORIAN
METHOD:PUBLISH
X-WR-CALNAME:Pro-Vision Inc
X-ORIGINAL-URL:https://provision-inc.org
X-WR-CALDESC:Events for Pro-Vision Inc
REFRESH-INTERVAL;VALUE=DURATION:PT1H
X-Robots-Tag:noindex
X-PUBLISHED-TTL:PT1H
BEGIN:VTIMEZONE
TZID:UTC
BEGIN:STANDARD
TZOFFSETFROM:+0000
TZOFFSETTO:+0000
TZNAME:UTC
DTSTART:20180101T000000
END:STANDARD
END:VTIMEZONE
BEGIN:VEVENT
DTSTART;TZID=UTC:20190409T080000
DTEND;TZID=UTC:20190411T140000
DTSTAMP:20260425T105119
CREATED:20190320T203903Z
LAST-MODIFIED:20190320T203903Z
UID:4255-1554796800-1554991200@provision-inc.org
SUMMARY:STAAR Testing
DESCRIPTION:
URL:https://provision-inc.org/event/staar-testing/
LOCATION:pro-vision academy\, 4590 Wilmington St.\, Houston\, TX\, 77089\, United States
CATEGORIES:Academy
END:VEVENT
BEGIN:VEVENT
DTSTART;TZID=UTC:20190406T090000
DTEND;TZID=UTC:20190406T120000
DTSTAMP:20260425T105119
CREATED:20190320T203552Z
LAST-MODIFIED:20190320T203552Z
UID:4251-1554541200-1554552000@provision-inc.org
SUMMARY:STAAR WARS SUPREME SATURDAY TUTORIALS
DESCRIPTION:
URL:https://provision-inc.org/event/staar-wars-supreme-saturday-tutorials/
LOCATION:pro-vision academy\, 4590 Wilmington St.\, Houston\, TX\, 77089\, United States
CATEGORIES:Academy
END:VEVENT
BEGIN:VEVENT
DTSTART;TZID=UTC:20190405T163000
DTEND;TZID=UTC:20190406T170000
DTSTAMP:20260425T105119
CREATED:20190206T223411Z
LAST-MODIFIED:20190206T223411Z
UID:4022-1554481800-1554570000@provision-inc.org
SUMMARY:Cooper Dragon Invitational
DESCRIPTION:
URL:https://provision-inc.org/event/cooper-dragon-invitational/
LOCATION:TX
CATEGORIES:Academy,Athletics
END:VEVENT
BEGIN:VEVENT
DTSTART;TZID=UTC:20190330T090000
DTEND;TZID=UTC:20190330T120000
DTSTAMP:20260425T105119
CREATED:20190320T203235Z
LAST-MODIFIED:20190320T203235Z
UID:4249-1553936400-1553947200@provision-inc.org
SUMMARY:Saturday Tutorials
DESCRIPTION:
URL:https://provision-inc.org/event/saturday-tutorials-4/
LOCATION:pro-vision academy\, 4590 Wilmington St.\, Houston\, TX\, 77089\, United States
CATEGORIES:Academy
END:VEVENT
BEGIN:VEVENT
DTSTART;TZID=UTC:20190330T080000
DTEND;TZID=UTC:20190330T170000
DTSTAMP:20260425T105119
CREATED:20190206T204917Z
LAST-MODIFIED:20190206T204917Z
UID:4020-1553932800-1553965200@provision-inc.org
SUMMARY:HC Mickey Riggs Relays
DESCRIPTION:
URL:https://provision-inc.org/event/hc-mickey-riggs-relays/
LOCATION:TX
CATEGORIES:Academy,Athletics
END:VEVENT
BEGIN:VEVENT
DTSTART;TZID=UTC:20190328T170000
DTEND;TZID=UTC:20190328T183000
DTSTAMP:20260425T105119
CREATED:20190320T203042Z
LAST-MODIFIED:20190320T203042Z
UID:4247-1553792400-1553797800@provision-inc.org
SUMMARY:Parent Night
DESCRIPTION:
URL:https://provision-inc.org/event/parent-night-2/
LOCATION:pro-vision academy\, 4590 Wilmington St.\, Houston\, TX\, 77089\, United States
CATEGORIES:Academy
END:VEVENT
BEGIN:VEVENT
DTSTART;VALUE=DATE:20190325
DTEND;VALUE=DATE:20190330
DTSTAMP:20260425T105119
CREATED:20190320T202959Z
LAST-MODIFIED:20190320T202959Z
UID:4245-1553472000-1553903999@provision-inc.org
SUMMARY:March Madness
DESCRIPTION:
URL:https://provision-inc.org/event/march-madness/
LOCATION:pro-vision academy\, 4590 Wilmington St.\, Houston\, TX\, 77089\, United States
CATEGORIES:Academy
END:VEVENT
BEGIN:VEVENT
DTSTART;TZID=UTC:20190323T090000
DTEND;TZID=UTC:20190323T120000
DTSTAMP:20260425T105119
CREATED:20190320T202805Z
LAST-MODIFIED:20190320T202805Z
UID:4241-1553331600-1553342400@provision-inc.org
SUMMARY:Saturday Tutorials
DESCRIPTION:
URL:https://provision-inc.org/event/saturday-tutorials-3/
LOCATION:pro-vision academy\, 4590 Wilmington St.\, Houston\, TX\, 77089\, United States
CATEGORIES:Academy
END:VEVENT
BEGIN:VEVENT
DTSTART;TZID=UTC:20190323T083000
DTEND;TZID=UTC:20190323T120000
DTSTAMP:20260425T105119
CREATED:20190320T202848Z
LAST-MODIFIED:20190320T202848Z
UID:4243-1553329800-1553342400@provision-inc.org
SUMMARY:S.H.E. & Manhood Meeting
DESCRIPTION:
URL:https://provision-inc.org/event/s-h-e-manhood-meeting/
LOCATION:pro-vision academy\, 4590 Wilmington St.\, Houston\, TX\, 77089\, United States
CATEGORIES:Academy
END:VEVENT
BEGIN:VEVENT
DTSTART;VALUE=DATE:20190322
DTEND;VALUE=DATE:20190323
DTSTAMP:20260425T105119
CREATED:20190320T203708Z
LAST-MODIFIED:20190320T203708Z
UID:4253-1553212800-1553299199@provision-inc.org
SUMMARY:Progress Reports Distribution
DESCRIPTION:
URL:https://provision-inc.org/event/progress-reports-distribution/
LOCATION:pro-vision academy\, 4590 Wilmington St.\, Houston\, TX\, 77089\, United States
CATEGORIES:Academy
END:VEVENT
BEGIN:VEVENT
DTSTART;TZID=UTC:20190321T170000
DTEND;TZID=UTC:20190321T183000
DTSTAMP:20260425T105119
CREATED:20190318T211958Z
LAST-MODIFIED:20190318T211958Z
UID:4236-1553187600-1553193000@provision-inc.org
SUMMARY:English Academic Night
DESCRIPTION:
URL:https://provision-inc.org/event/english-academic-night/
LOCATION:TX
CATEGORIES:Academy
END:VEVENT
BEGIN:VEVENT
DTSTART;TZID=UTC:20190307T160000
DTEND;TZID=UTC:20190307T200000
DTSTAMP:20260425T105119
CREATED:20190206T204546Z
LAST-MODIFIED:20190206T204546Z
UID:4018-1551974400-1551988800@provision-inc.org
SUMMARY:Kinkaid Falcon Relays Track Meet
DESCRIPTION:
URL:https://provision-inc.org/event/kinkaid-falcon-relays-track-meet/
LOCATION:TX
CATEGORIES:Academy,Athletics
END:VEVENT
BEGIN:VEVENT
DTSTART;TZID=UTC:20190301T163000
DTEND;TZID=UTC:20190302T170000
DTSTAMP:20260425T105119
CREATED:20190206T202828Z
LAST-MODIFIED:20190206T202828Z
UID:4016-1551457800-1551546000@provision-inc.org
SUMMARY:St. John's Maverick Relays Track Meet
DESCRIPTION:
URL:https://provision-inc.org/event/st-johns-maverick-relays-track-meet/
LOCATION:TX
CATEGORIES:Academy,Athletics
END:VEVENT
BEGIN:VEVENT
DTSTART;TZID=UTC:20190228T180000
DTEND;TZID=UTC:20190228T193000
DTSTAMP:20260425T105119
CREATED:20190131T214630Z
LAST-MODIFIED:20190131T214630Z
UID:4000-1551376800-1551382200@provision-inc.org
SUMMARY:Black History Program
DESCRIPTION:
URL:https://provision-inc.org/event/black-history-program-2/
LOCATION:pro-vision academy\, 4590 Wilmington St.\, Houston\, TX\, 77089\, United States
CATEGORIES:Academy
END:VEVENT
BEGIN:VEVENT
DTSTART;TZID=UTC:20190228T100000
DTEND;TZID=UTC:20190228T113000
DTSTAMP:20260425T105119
CREATED:20190131T214530Z
LAST-MODIFIED:20190131T214530Z
UID:3998-1551348000-1551353400@provision-inc.org
SUMMARY:Black History Program
DESCRIPTION:
URL:https://provision-inc.org/event/black-history-program/
LOCATION:TX
CATEGORIES:Academy
END:VEVENT
BEGIN:VEVENT
DTSTART;TZID=UTC:20190227T120000
DTEND;TZID=UTC:20190227T130000
DTSTAMP:20260425T105119
CREATED:20190131T214444Z
LAST-MODIFIED:20190131T214444Z
UID:3996-1551268800-1551272400@provision-inc.org
SUMMARY:Warrior Achievement Ceremony
DESCRIPTION:
URL:https://provision-inc.org/event/warrior-achievement-ceremony-4/
LOCATION:TX
CATEGORIES:Academy
END:VEVENT
BEGIN:VEVENT
DTSTART;TZID=UTC:20190227T090000
DTEND;TZID=UTC:20190227T100000
DTSTAMP:20260425T105119
CREATED:20190131T214329Z
LAST-MODIFIED:20190131T214348Z
UID:3993-1551258000-1551261600@provision-inc.org
SUMMARY:Warrior Achievement Ceremony (Elementary & Middle School)
DESCRIPTION:
URL:https://provision-inc.org/event/warrior-achievement-ceremony-3/
LOCATION:TX
CATEGORIES:Academy
END:VEVENT
BEGIN:VEVENT
DTSTART;TZID=UTC:20190227T083000
DTEND;TZID=UTC:20190227T153000
DTSTAMP:20260425T105119
CREATED:20190131T214232Z
LAST-MODIFIED:20190131T214232Z
UID:3991-1551256200-1551281400@provision-inc.org
SUMMARY:10th grade PSAT
DESCRIPTION:
URL:https://provision-inc.org/event/10th-grade-psat/
LOCATION:pro-vision academy\, 4590 Wilmington St.\, Houston\, TX\, 77089\, United States
CATEGORIES:Academy
END:VEVENT
BEGIN:VEVENT
DTSTART;TZID=UTC:20190227T083000
DTEND;TZID=UTC:20190227T120000
DTSTAMP:20260425T105119
CREATED:20190211T235614Z
LAST-MODIFIED:20190211T235614Z
UID:4058-1551256200-1551268800@provision-inc.org
SUMMARY:10th grade PSAT
DESCRIPTION:
URL:https://provision-inc.org/event/10th-grade-psat-2/
LOCATION:TX
CATEGORIES:Academy
END:VEVENT
BEGIN:VEVENT
DTSTART;TZID=UTC:20190225T083000
DTEND;TZID=UTC:20190301T120000
DTSTAMP:20260425T105119
CREATED:20190131T214830Z
LAST-MODIFIED:20190131T214830Z
UID:4002-1551083400-1551441600@provision-inc.org
SUMMARY:CBA 4
DESCRIPTION:
URL:https://provision-inc.org/event/cba-4/
LOCATION:pro-vision academy\, 4590 Wilmington St.\, Houston\, TX\, 77089\, United States
CATEGORIES:Academy
END:VEVENT
BEGIN:VEVENT
DTSTART;TZID=UTC:20190225T083000
DTEND;TZID=UTC:20190301T114000
DTSTAMP:20260425T105119
CREATED:20190211T235123Z
LAST-MODIFIED:20190211T235123Z
UID:4056-1551083400-1551440400@provision-inc.org
SUMMARY:CBA 4
DESCRIPTION:
URL:https://provision-inc.org/event/cba-4-2/
LOCATION:TX
CATEGORIES:Academy
END:VEVENT
BEGIN:VEVENT
DTSTART;TZID=UTC:20190223T090000
DTEND;TZID=UTC:20190223T120000
DTSTAMP:20260425T105119
CREATED:20190211T234956Z
LAST-MODIFIED:20190211T234956Z
UID:4054-1550912400-1550923200@provision-inc.org
SUMMARY:Saturday Tutorials
DESCRIPTION:
URL:https://provision-inc.org/event/saturday-tutorials-2/
LOCATION:TX
CATEGORIES:Academy
END:VEVENT
BEGIN:VEVENT
DTSTART;TZID=UTC:20190222T160000
DTEND;TZID=UTC:20190223T190000
DTSTAMP:20260425T105119
CREATED:20190206T202457Z
LAST-MODIFIED:20190206T202523Z
UID:4014-1550851200-1550948400@provision-inc.org
SUMMARY:Eagle Relays Track Meet
DESCRIPTION:
URL:https://provision-inc.org/event/eagle-relays-track-meet/
LOCATION:TX
CATEGORIES:Academy,Athletics
END:VEVENT
BEGIN:VEVENT
DTSTART;TZID=UTC:20190222T083000
DTEND;TZID=UTC:20190222T153000
DTSTAMP:20260425T105119
CREATED:20190211T234910Z
LAST-MODIFIED:20190211T234910Z
UID:4052-1550824200-1550849400@provision-inc.org
SUMMARY:Report Card Distribution
DESCRIPTION:
URL:https://provision-inc.org/event/report-card-distribution-2/
LOCATION:TX
CATEGORIES:Academy
END:VEVENT
BEGIN:VEVENT
DTSTART;TZID=UTC:20190222T083000
DTEND;TZID=UTC:20190222T153000
DTSTAMP:20260425T105119
CREATED:20190131T213338Z
LAST-MODIFIED:20190131T213338Z
UID:3985-1550824200-1550849400@provision-inc.org
SUMMARY:Report Card Distribution
DESCRIPTION:
URL:https://provision-inc.org/event/report-card-distribution/
LOCATION:TX
CATEGORIES:Academy
END:VEVENT
BEGIN:VEVENT
DTSTART;TZID=UTC:20190221T170000
DTEND;TZID=UTC:20190221T183000
DTSTAMP:20260425T105119
CREATED:20190211T234519Z
LAST-MODIFIED:20190211T234519Z
UID:4050-1550768400-1550773800@provision-inc.org
SUMMARY:Science Night
DESCRIPTION:
URL:https://provision-inc.org/event/science-night/
LOCATION:TX
CATEGORIES:Academy
END:VEVENT
BEGIN:VEVENT
DTSTART;TZID=UTC:20190221T170000
DTEND;TZID=UTC:20190221T183000
DTSTAMP:20260425T105119
CREATED:20190131T213127Z
LAST-MODIFIED:20190131T213127Z
UID:3983-1550768400-1550773800@provision-inc.org
SUMMARY:Science Academic Night
DESCRIPTION:
URL:https://provision-inc.org/event/science-academic-night/
LOCATION:pro-vision academy\, 4590 Wilmington St.\, Houston\, TX\, 77089\, United States
CATEGORIES:Academy
END:VEVENT
BEGIN:VEVENT
DTSTART;TZID=UTC:20190216T090000
DTEND;TZID=UTC:20190216T120000
DTSTAMP:20260425T105119
CREATED:20190211T234416Z
LAST-MODIFIED:20190211T234416Z
UID:4048-1550307600-1550318400@provision-inc.org
SUMMARY:Saturday Tutorials
DESCRIPTION:
URL:https://provision-inc.org/event/saturday-tutorials/
LOCATION:TX
CATEGORIES:Academy
END:VEVENT
BEGIN:VEVENT
DTSTART;TZID=UTC:20190214T083000
DTEND;TZID=UTC:20190214T153000
DTSTAMP:20260425T105119
CREATED:20190211T234306Z
LAST-MODIFIED:20190211T234306Z
UID:4046-1550133000-1550158200@provision-inc.org
SUMMARY:Heart Awareness Day
DESCRIPTION:
URL:https://provision-inc.org/event/heart-awareness-day/
LOCATION:TX
CATEGORIES:Academy
END:VEVENT
BEGIN:VEVENT
DTSTART;TZID=UTC:20190206T170000
DTEND;TZID=UTC:20190206T183000
DTSTAMP:20260425T105119
CREATED:20190206T201729Z
LAST-MODIFIED:20190206T201729Z
UID:4010-1549472400-1549477800@provision-inc.org
SUMMARY:Math Academic Night
DESCRIPTION:
URL:https://provision-inc.org/event/math-academic-night/
LOCATION:TX
CATEGORIES:Academy
END:VEVENT
END:VCALENDAR