BEGIN:VCALENDAR
VERSION:2.0
PRODID:-//Pro-Vision Inc - ECPv6.15.20//NONSGML v1.0//EN
CALSCALE:GREGORIAN
METHOD:PUBLISH
X-ORIGINAL-URL:https://provision-inc.org
X-WR-CALDESC:Events for Pro-Vision Inc
REFRESH-INTERVAL;VALUE=DURATION:PT1H
X-Robots-Tag:noindex
X-PUBLISHED-TTL:PT1H
BEGIN:VTIMEZONE
TZID:UTC
BEGIN:STANDARD
TZOFFSETFROM:+0000
TZOFFSETTO:+0000
TZNAME:UTC
DTSTART:20170101T000000
END:STANDARD
END:VTIMEZONE
BEGIN:VEVENT
DTSTART;TZID=UTC:20190124T080000
DTEND;TZID=UTC:20190124T170000
DTSTAMP:20260425T155333
CREATED:20181204T014424Z
LAST-MODIFIED:20181204T014424Z
UID:3897-1548316800-1548349200@provision-inc.org
SUMMARY:Middle School Girl's Basketball vs. IL Texas College Station
DESCRIPTION:
URL:https://provision-inc.org/event/middle-school-girls-basketball-vs-il-texas-college-station-2/
LOCATION:IL Texas College Station\, 3610 Longmire Dr\, College Station\, TX\, 77845\, United States
CATEGORIES:Academy,Athletics
END:VEVENT
BEGIN:VEVENT
DTSTART;TZID=UTC:20190122T180000
DTEND;TZID=UTC:20190122T190000
DTSTAMP:20260425T155333
CREATED:20181204T203836Z
LAST-MODIFIED:20181204T203836Z
UID:3915-1548180000-1548183600@provision-inc.org
SUMMARY:Middle School Boy's Basketball vs. The Post Oak School
DESCRIPTION:
URL:https://provision-inc.org/event/middle-school-boys-basketball-vs-the-post-oak-school/
CATEGORIES:Academy,Athletics
END:VEVENT
BEGIN:VEVENT
DTSTART;TZID=UTC:20190122T170000
DTEND;TZID=UTC:20190122T180000
DTSTAMP:20260425T155333
CREATED:20181204T014205Z
LAST-MODIFIED:20181204T014205Z
UID:3895-1548176400-1548180000@provision-inc.org
SUMMARY:Middle School Girl's Basketball vs. Texas Serenity Academy
DESCRIPTION:
URL:https://provision-inc.org/event/middle-school-girls-basketball-vs-texas-serenity-academy-2/
LOCATION:Thomas Middle School\, 5655 Selinsky Rd.\, Houston\, 77048\, United States
CATEGORIES:Academy,Athletics
END:VEVENT
BEGIN:VEVENT
DTSTART;TZID=UTC:20190121T080000
DTEND;TZID=UTC:20190121T170000
DTSTAMP:20260425T155333
CREATED:20190117T224024Z
LAST-MODIFIED:20190117T224024Z
UID:3958-1548057600-1548090000@provision-inc.org
SUMMARY:Martin Luther King Day
DESCRIPTION:
URL:https://provision-inc.org/event/martin-luther-king-day/
CATEGORIES:Academy
END:VEVENT
BEGIN:VEVENT
DTSTART;TZID=UTC:20190119T120000
DTEND;TZID=UTC:20190119T130000
DTSTAMP:20260425T155333
CREATED:20181204T203550Z
LAST-MODIFIED:20181204T203550Z
UID:3913-1547899200-1547902800@provision-inc.org
SUMMARY:Middle School Boy's Basketball vs. Sanchez Charter School
DESCRIPTION:
URL:https://provision-inc.org/event/middle-school-boys-basketball-vs-sanchez-charter-school-2/
LOCATION:George Sanchez Gym\, 6001 Gulf Freeway\, Houston\, TX\, 77023\, United States
CATEGORIES:Academy,Athletics
END:VEVENT
BEGIN:VEVENT
DTSTART;TZID=UTC:20190117T163000
DTEND;TZID=UTC:20190117T173000
DTSTAMP:20260425T155333
CREATED:20181204T005315Z
LAST-MODIFIED:20181204T005315Z
UID:3892-1547742600-1547746200@provision-inc.org
SUMMARY:Middle School Girl's Basketball vs. The Rhodes School: Humble
DESCRIPTION:
URL:https://provision-inc.org/event/middle-school-girls-basketball-vs-the-rhodes-school-humble-2/
LOCATION:The Rhodes School\, 600 Charles St\, Humble\, Texas\, 77338
CATEGORIES:Academy,Athletics
END:VEVENT
BEGIN:VEVENT
DTSTART;TZID=UTC:20190114T180000
DTEND;TZID=UTC:20190114T190000
DTSTAMP:20260425T155333
CREATED:20181204T203306Z
LAST-MODIFIED:20181204T203306Z
UID:3911-1547488800-1547492400@provision-inc.org
SUMMARY:Middle School Boy's Basketball vs. Houston Gateway Academy
DESCRIPTION:
URL:https://provision-inc.org/event/middle-school-boys-basketball-vs-houston-gateway-academy-2/
LOCATION:Houston Gateway Gym\, 7311 Bowie St.\, Houston\, TX\, 77012\, United States
CATEGORIES:Academy,Athletics
END:VEVENT
BEGIN:VEVENT
DTSTART;TZID=UTC:20190114T170000
DTEND;TZID=UTC:20190114T180000
DTSTAMP:20260425T155333
CREATED:20181204T205942Z
LAST-MODIFIED:20181204T205942Z
UID:3928-1547485200-1547488800@provision-inc.org
SUMMARY:Girl's Varsity Basketball vs. Mount Carmel Academy
DESCRIPTION:
URL:https://provision-inc.org/event/girls-varsity-basketball-vs-mount-carmel-academy/
LOCATION:Thomas Middle School\, 5655 Selinsky Rd.\, Houston\, 77048\, United States
CATEGORIES:Academy,Athletics
END:VEVENT
BEGIN:VEVENT
DTSTART;TZID=UTC:20190110T180000
DTEND;TZID=UTC:20190110T190000
DTSTAMP:20260425T155333
CREATED:20181204T203151Z
LAST-MODIFIED:20181204T203151Z
UID:3909-1547143200-1547146800@provision-inc.org
SUMMARY:Middle School Boy's Basketball vs. Legacy School of Sport Sciences
DESCRIPTION:
URL:https://provision-inc.org/event/middle-school-boys-basketball-vs-legacy-school-of-sport-sciences/
CATEGORIES:Academy,Athletics
END:VEVENT
BEGIN:VEVENT
DTSTART;TZID=UTC:20190110T170000
DTEND;TZID=UTC:20190110T180000
DTSTAMP:20260425T155333
CREATED:20181204T004534Z
LAST-MODIFIED:20181204T004610Z
UID:3889-1547139600-1547143200@provision-inc.org
SUMMARY:Middle School Girl's Basketball vs. IL Texas Katy
DESCRIPTION:
URL:https://provision-inc.org/event/middle-school-girls-basketball-vs-il-texas-katy-2/
LOCATION:IL Texas Katy\, 24406 Franz Rd\, Katy\, TX\, 77493\, United States
CATEGORIES:Academy,Athletics
END:VEVENT
BEGIN:VEVENT
DTSTART;TZID=UTC:20190108T170000
DTEND;TZID=UTC:20190108T180000
DTSTAMP:20260425T155333
CREATED:20181204T205758Z
LAST-MODIFIED:20181204T205758Z
UID:3926-1546966800-1546970400@provision-inc.org
SUMMARY:Girl's Varsity Basketball vs. Harmony School of Advancement
DESCRIPTION:
URL:https://provision-inc.org/event/girls-varsity-basketball-vs-harmony-school-of-advancement/
CATEGORIES:Academy,Athletics
END:VEVENT
BEGIN:VEVENT
DTSTART;TZID=UTC:20190108T170000
DTEND;TZID=UTC:20190108T180000
DTSTAMP:20260425T155333
CREATED:20181204T003021Z
LAST-MODIFIED:20181204T003021Z
UID:3887-1546966800-1546970400@provision-inc.org
SUMMARY:Middle School Girl's Basketball vs. IL Texas College Station
DESCRIPTION:
URL:https://provision-inc.org/event/middle-school-girls-basketball-vs-il-texas-college-station/
LOCATION:Thomas Middle School\, 5655 Selinsky Rd.\, Houston\, 77048\, United States
CATEGORIES:Academy,Athletics
END:VEVENT
BEGIN:VEVENT
DTSTART;TZID=UTC:20181220T080000
DTEND;TZID=UTC:20190107T170000
DTSTAMP:20260425T155333
CREATED:20181219T193815Z
LAST-MODIFIED:20181219T193815Z
UID:3949-1545292800-1546880400@provision-inc.org
SUMMARY:Winter Break
DESCRIPTION:
URL:https://provision-inc.org/event/winter-break/
CATEGORIES:Academy
END:VEVENT
BEGIN:VEVENT
DTSTART;TZID=UTC:20181219T080000
DTEND;TZID=UTC:20181219T153000
DTSTAMP:20260425T155333
CREATED:20181219T193741Z
LAST-MODIFIED:20181219T193741Z
UID:3947-1545206400-1545233400@provision-inc.org
SUMMARY:Last Day of Fall Semester
DESCRIPTION:
URL:https://provision-inc.org/event/last-day-of-fall-semester/
CATEGORIES:Academy
END:VEVENT
BEGIN:VEVENT
DTSTART;TZID=UTC:20181217T183000
DTEND;TZID=UTC:20181217T203000
DTSTAMP:20260425T155333
CREATED:20181214T024548Z
LAST-MODIFIED:20181214T024548Z
UID:3939-1545071400-1545078600@provision-inc.org
SUMMARY:Winter Wonderland Program
DESCRIPTION:
URL:https://provision-inc.org/event/winter-wonderland-program/
LOCATION:pro-vision academy\, 4590 Wilmington St.\, Houston\, TX\, 77089\, United States
CATEGORIES:Academy
END:VEVENT
BEGIN:VEVENT
DTSTART;TZID=UTC:20181213T180000
DTEND;TZID=UTC:20181213T190000
DTSTAMP:20260425T155333
CREATED:20181204T201654Z
LAST-MODIFIED:20181204T201654Z
UID:3906-1544724000-1544727600@provision-inc.org
SUMMARY:Middle School Boy's Basketball vs. Houston Gateway Academy
DESCRIPTION:
URL:https://provision-inc.org/event/middle-school-boys-basketball-vs-houston-gateway-academy/
LOCATION:Thomas Middle School\, 5655 Selinsky Rd.\, Houston\, 77048\, United States
CATEGORIES:Academy,Athletics
END:VEVENT
BEGIN:VEVENT
DTSTART;TZID=UTC:20181212T170000
DTEND;TZID=UTC:20181212T180000
DTSTAMP:20260425T155333
CREATED:20181204T001638Z
LAST-MODIFIED:20181204T001638Z
UID:3884-1544634000-1544637600@provision-inc.org
SUMMARY:Middle School Girl's Basketball vs. Texas Serenity Academy
DESCRIPTION:
URL:https://provision-inc.org/event/middle-school-girls-basketball-vs-texas-serenity-academy/
LOCATION:Texas Serenity Academy Gym\, 262 N Sam Houston Pkwy E\, Houston\, TX\, 77060\, United States
CATEGORIES:Academy,Athletics
END:VEVENT
BEGIN:VEVENT
DTSTART;TZID=UTC:20181210T173000
DTEND;TZID=UTC:20181210T193000
DTSTAMP:20260425T155333
CREATED:20181204T201545Z
LAST-MODIFIED:20181204T201545Z
UID:3904-1544463000-1544470200@provision-inc.org
SUMMARY:Middle School Boy's Basketball vs. Sanchez Charter School
DESCRIPTION:
URL:https://provision-inc.org/event/middle-school-boys-basketball-vs-sanchez-charter-school/
LOCATION:Thomas Middle School\, 5655 Selinsky Rd.\, Houston\, 77048\, United States
CATEGORIES:Academy,Athletics
END:VEVENT
BEGIN:VEVENT
DTSTART;TZID=UTC:20181210T170000
DTEND;TZID=UTC:20181210T180000
DTSTAMP:20260425T155333
CREATED:20181204T205644Z
LAST-MODIFIED:20181204T205644Z
UID:3924-1544461200-1544464800@provision-inc.org
SUMMARY:Girl's Varsity Basketball vs. Legacy School of Sport Sciences
DESCRIPTION:
URL:https://provision-inc.org/event/girls-varsity-basketball-vs-legacy-school-of-sport-sciences/
LOCATION:Thomas Middle School\, 5655 Selinsky Rd.\, Houston\, 77048\, United States
CATEGORIES:Academy,Athletics
END:VEVENT
BEGIN:VEVENT
DTSTART;TZID=UTC:20181208T110000
DTEND;TZID=UTC:20181208T120000
DTSTAMP:20260425T155333
CREATED:20181204T000817Z
LAST-MODIFIED:20181204T000817Z
UID:3881-1544266800-1544270400@provision-inc.org
SUMMARY:Middle School Girl's Basketball vs. The Rhodes School: Humble
DESCRIPTION:
URL:https://provision-inc.org/event/middle-school-girls-basketball-vs-the-rhodes-school-humble/
LOCATION:Thomas Middle School\, 5655 Selinsky Rd.\, Houston\, 77048\, United States
CATEGORIES:Academy,Athletics
END:VEVENT
BEGIN:VEVENT
DTSTART;TZID=UTC:20181207T170000
DTEND;TZID=UTC:20181207T180000
DTSTAMP:20260425T155333
CREATED:20181204T205300Z
LAST-MODIFIED:20181204T205300Z
UID:3922-1544202000-1544205600@provision-inc.org
SUMMARY:Girl's Varsity Basketball vs. IL Texas Katy/Westpark
DESCRIPTION:
URL:https://provision-inc.org/event/girls-varsity-basketball-vs-il-texas-katy-westpark-2/
LOCATION:IL Texas Katy\, 24406 Franz Rd\, Katy\, TX\, 77493\, United States
CATEGORIES:Academy,Athletics
END:VEVENT
BEGIN:VEVENT
DTSTART;TZID=UTC:20181206T180000
DTEND;TZID=UTC:20181206T200000
DTSTAMP:20260425T155333
CREATED:20181204T201435Z
LAST-MODIFIED:20181204T201435Z
UID:3901-1544119200-1544126400@provision-inc.org
SUMMARY:Middle School Boy's Basketball vs. Legacy School of Sport Science
DESCRIPTION:
URL:https://provision-inc.org/event/middle-school-boys-basketball-vs-legacy-school-of-sport-science/
LOCATION:Legacy School of Sport Sciences\, 2727 Spring Creek Dr\, Spring\, TX\, 77373\, United States
CATEGORIES:Academy,Athletics
END:VEVENT
BEGIN:VEVENT
DTSTART;TZID=UTC:20181206T170000
DTEND;TZID=UTC:20181206T180000
DTSTAMP:20260425T155333
CREATED:20181204T205049Z
LAST-MODIFIED:20181204T205049Z
UID:3920-1544115600-1544119200@provision-inc.org
SUMMARY:Girl's Varsity Basketball vs. IL Texas Katy/Westpark
DESCRIPTION:
URL:https://provision-inc.org/event/girls-varsity-basketball-vs-il-texas-katy-westpark/
LOCATION:Thomas Middle School\, 5655 Selinsky Rd.\, Houston\, 77048\, United States
CATEGORIES:Academy,Athletics
END:VEVENT
BEGIN:VEVENT
DTSTART;TZID=UTC:20181205T170000
DTEND;TZID=UTC:20181205T180000
DTSTAMP:20260425T155333
CREATED:20181204T204939Z
LAST-MODIFIED:20181204T204939Z
UID:3917-1544029200-1544032800@provision-inc.org
SUMMARY:Girl's Varsity Basketball vs. YES Prep North Central
DESCRIPTION:
URL:https://provision-inc.org/event/girls-varsity-basketball-vs-yes-prep-north-central/
LOCATION:YES Prep North Central\, 13703 Aldine Westfield Rd\, Houston\, 77039\, United States
CATEGORIES:Academy,Athletics
END:VEVENT
BEGIN:VEVENT
DTSTART;TZID=UTC:20181203T170000
DTEND;TZID=UTC:20181203T190000
DTSTAMP:20260425T155333
CREATED:20181203T233908Z
LAST-MODIFIED:20181203T233908Z
UID:3877-1543856400-1543863600@provision-inc.org
SUMMARY:Middle School Girls Basketball vs. IL Texas Katy
DESCRIPTION:
URL:https://provision-inc.org/event/middle-school-girls-basketball-vs-il-texas-katy/
CATEGORIES:Academy,Athletics
END:VEVENT
BEGIN:VEVENT
DTSTART;TZID=UTC:20181123T000000
DTEND;TZID=UTC:20181123T000000
DTSTAMP:20260425T155333
CREATED:20180712T192032Z
LAST-MODIFIED:20181203T232406Z
UID:3369-1542931200-1542931200@provision-inc.org
SUMMARY:Football - State Finals
DESCRIPTION:
URL:https://provision-inc.org/event/football-state-finals/
CATEGORIES:Academy,Athletics
END:VEVENT
BEGIN:VEVENT
DTSTART;TZID=UTC:20181119T080000
DTEND;TZID=UTC:20181124T170000
DTSTAMP:20260425T155333
CREATED:20181119T211053Z
LAST-MODIFIED:20181119T211053Z
UID:3872-1542614400-1543078800@provision-inc.org
SUMMARY:Thanksgiving Break
DESCRIPTION:
URL:https://provision-inc.org/event/thanksgiving-break/
CATEGORIES:Academy
END:VEVENT
BEGIN:VEVENT
DTSTART;TZID=UTC:20181116T000000
DTEND;TZID=UTC:20181116T000000
DTSTAMP:20260425T155333
CREATED:20180712T191935Z
LAST-MODIFIED:20181203T232311Z
UID:3367-1542326400-1542326400@provision-inc.org
SUMMARY:State Semifinals
DESCRIPTION:
URL:https://provision-inc.org/event/state-semifinals/
CATEGORIES:Academy,Athletics
END:VEVENT
BEGIN:VEVENT
DTSTART;TZID=UTC:20181109T000000
DTEND;TZID=UTC:20181109T000000
DTSTAMP:20260425T155333
CREATED:20180712T191632Z
LAST-MODIFIED:20181203T231838Z
UID:3364-1541721600-1541721600@provision-inc.org
SUMMARY:Football - Playoffs
DESCRIPTION:
URL:https://provision-inc.org/event/football-playoffs/
CATEGORIES:Academy,Athletics
END:VEVENT
BEGIN:VEVENT
DTSTART;TZID=UTC:20181030T080000
DTEND;TZID=UTC:20181030T170000
DTSTAMP:20260425T155333
CREATED:20180917T205647Z
LAST-MODIFIED:20180917T205647Z
UID:3702-1540886400-1540918800@provision-inc.org
SUMMARY:PVA Volleyball vs. Southwest High School
DESCRIPTION:
URL:https://provision-inc.org/event/pva-volleyball-vs-southwest-high-school/
LOCATION:boys & girls club\, 5950 Selinsky Rd.\, Houston\, TX\, 77048\, United States
CATEGORIES:Academy,Athletics
END:VEVENT
END:VCALENDAR