BEGIN:VCALENDAR
VERSION:2.0
PRODID:-//Pro-Vision Inc - ECPv6.15.20//NONSGML v1.0//EN
CALSCALE:GREGORIAN
METHOD:PUBLISH
X-ORIGINAL-URL:https://provision-inc.org
X-WR-CALDESC:Events for Pro-Vision Inc
REFRESH-INTERVAL;VALUE=DURATION:PT1H
X-Robots-Tag:noindex
X-PUBLISHED-TTL:PT1H
BEGIN:VTIMEZONE
TZID:UTC
BEGIN:STANDARD
TZOFFSETFROM:+0000
TZOFFSETTO:+0000
TZNAME:UTC
DTSTART:20170101T000000
END:STANDARD
END:VTIMEZONE
BEGIN:VEVENT
DTSTART;TZID=UTC:20181009T170000
DTEND;TZID=UTC:20181009T180000
DTSTAMP:20260425T232126
CREATED:20180917T203815Z
LAST-MODIFIED:20180917T203815Z
UID:3683-1539104400-1539108000@provision-inc.org
SUMMARY:PVA vs. Aristoi Classical Academy
DESCRIPTION:
URL:https://provision-inc.org/event/pva-vs-aristoi-classical-academy/
LOCATION:boys & girls club\, 5950 Selinsky Rd.\, Houston\, TX\, 77048\, United States
CATEGORIES:Academy,Athletics
END:VEVENT
BEGIN:VEVENT
DTSTART;TZID=UTC:20181008T163000
DTEND;TZID=UTC:20181008T180000
DTSTAMP:20260425T232126
CREATED:20180917T203623Z
LAST-MODIFIED:20180917T203623Z
UID:3681-1539016200-1539021600@provision-inc.org
SUMMARY:PVA vs. Amigos Por Vida (middle school)
DESCRIPTION:
URL:https://provision-inc.org/event/pva-vs-amigos-por-vida-middle-school/
LOCATION:boys & girls club\, 5950 Selinsky Rd.\, Houston\, TX\, 77048\, United States
CATEGORIES:Academy,Athletics
END:VEVENT
BEGIN:VEVENT
DTSTART;TZID=UTC:20181006T120000
DTEND;TZID=UTC:20181006T140000
DTSTAMP:20260425T232126
CREATED:20180917T194309Z
LAST-MODIFIED:20180917T194309Z
UID:3676-1538827200-1538834400@provision-inc.org
SUMMARY:PVA Volleyball vs. Harmony School of Advancement (high school)
DESCRIPTION:
URL:https://provision-inc.org/event/pva-volleyball-vs-harmony-school-advancement-high-school-2/
LOCATION:boys & girls club\, 5950 Selinsky Rd.\, Houston\, TX\, 77048\, United States
CATEGORIES:Academy,Athletics
END:VEVENT
BEGIN:VEVENT
DTSTART;TZID=UTC:20181006T110000
DTEND;TZID=UTC:20181006T120000
DTSTAMP:20260425T232126
CREATED:20180917T202643Z
LAST-MODIFIED:20180917T202643Z
UID:3678-1538823600-1538827200@provision-inc.org
SUMMARY:PVA Volleyball vs. Amigos Por Vida (middle school)
DESCRIPTION:
URL:https://provision-inc.org/event/pva-volleyball-vs-amigos-por-vida-middle-school/
LOCATION:Amigos Por Vida Gym\, 5503 El Camino Del Rey\, Houston\, TX\, 77081\, United States
CATEGORIES:Academy,Athletics
END:VEVENT
BEGIN:VEVENT
DTSTART;TZID=UTC:20181005T190000
DTEND;TZID=UTC:20181005T210000
DTSTAMP:20260425T232126
CREATED:20180711T012350Z
LAST-MODIFIED:20180711T012350Z
UID:3329-1538766000-1538773200@provision-inc.org
SUMMARY:Football - PVA vs. Arlington Newman Academy
DESCRIPTION:
URL:https://provision-inc.org/event/football-pva-vs-arlington-newman-academy/
LOCATION:pro-vision academy\, 4590 Wilmington St.\, Houston\, TX\, 77089\, United States
CATEGORIES:Academy,Athletics
END:VEVENT
BEGIN:VEVENT
DTSTART;TZID=UTC:20181005T080000
DTEND;TZID=UTC:20181005T170000
DTSTAMP:20260425T232126
CREATED:20180927T065708Z
LAST-MODIFIED:20180927T065708Z
UID:3731-1538726400-1538758800@provision-inc.org
SUMMARY:College Week - College Shirts
DESCRIPTION:Students will represent their favorite schools with college shirts.
URL:https://provision-inc.org/event/college-week-college-shirts/
LOCATION:TX
CATEGORIES:Academy
END:VEVENT
BEGIN:VEVENT
DTSTART;TZID=UTC:20181003T080000
DTEND;TZID=UTC:20181003T170000
DTSTAMP:20260425T232126
CREATED:20180927T065335Z
LAST-MODIFIED:20180927T065335Z
UID:3726-1538553600-1538586000@provision-inc.org
SUMMARY:Greek Day
DESCRIPTION:Greek Day
URL:https://provision-inc.org/event/greek-day/
LOCATION:TX
CATEGORIES:Academy
END:VEVENT
BEGIN:VEVENT
DTSTART;TZID=UTC:20181002T190000
DTEND;TZID=UTC:20181002T210000
DTSTAMP:20260425T232126
CREATED:20180712T191534Z
LAST-MODIFIED:20180712T191534Z
UID:3361-1538506800-1538514000@provision-inc.org
SUMMARY:Football - PVA vs. Nazarene Christian Academy
DESCRIPTION:
URL:https://provision-inc.org/event/football-pva-vs-nazarene-christian-academy/
LOCATION:Nazarene Christian Academy\, 2001 E Main St\, Crowley\, Texas\, 76036
CATEGORIES:Academy,Athletics
END:VEVENT
BEGIN:VEVENT
DTSTART;TZID=UTC:20181002T080000
DTEND;TZID=UTC:20181002T170000
DTSTAMP:20260425T232126
CREATED:20180927T065206Z
LAST-MODIFIED:20180927T065242Z
UID:3723-1538467200-1538499600@provision-inc.org
SUMMARY:College Poster Contest
DESCRIPTION:Students will design posters representing their favorite colleges.
URL:https://provision-inc.org/event/college-poster-contest/
LOCATION:TX
CATEGORIES:Academy
END:VEVENT
BEGIN:VEVENT
DTSTART;TZID=UTC:20181001T080000
DTEND;TZID=UTC:20181001T170000
DTSTAMP:20260425T232126
CREATED:20180927T065028Z
LAST-MODIFIED:20180927T065028Z
UID:3721-1538380800-1538413200@provision-inc.org
SUMMARY:College Week Kick Off
DESCRIPTION:Faculty and staff will wear their college shirts. The cheerleaders will help generate excitement about the week by helping decorate classroom doors!
URL:https://provision-inc.org/event/college-week-kick-off/
LOCATION:TX
CATEGORIES:Academy
END:VEVENT
BEGIN:VEVENT
DTSTART;TZID=UTC:20180929T120000
DTEND;TZID=UTC:20180929T130000
DTSTAMP:20260425T232126
CREATED:20180917T194100Z
LAST-MODIFIED:20180917T194100Z
UID:3674-1538222400-1538226000@provision-inc.org
SUMMARY:PVA Volleyball vs. George Sanchez Charter School (high school)
DESCRIPTION:
URL:https://provision-inc.org/event/pva-volleyball-vs-george-sanchez-charter-school-high-school/
LOCATION:boys & girls club\, 5950 Selinsky Rd.\, Houston\, TX\, 77048\, United States
CATEGORIES:Academy,Athletics
END:VEVENT
BEGIN:VEVENT
DTSTART;TZID=UTC:20180928T180000
DTEND;TZID=UTC:20180928T200000
DTSTAMP:20260425T232126
CREATED:20180711T012033Z
LAST-MODIFIED:20180927T175459Z
UID:3325-1538157600-1538164800@provision-inc.org
SUMMARY:Football - PVA vs. Inspired Vision Academy
DESCRIPTION:
URL:https://provision-inc.org/event/football-pva-vs-inspired-vision-academy/
LOCATION:F.U.N. Stadium\, 6464 Bissonnet St.\, Houston\, 77074
CATEGORIES:Academy,Athletics
END:VEVENT
BEGIN:VEVENT
DTSTART;TZID=UTC:20180928T043000
DTEND;TZID=UTC:20180928T183000
DTSTAMP:20260425T232126
CREATED:20180917T193606Z
LAST-MODIFIED:20180917T193914Z
UID:3672-1538109000-1538159400@provision-inc.org
SUMMARY:PVA vs. Energized for Excellence
DESCRIPTION:
URL:https://provision-inc.org/event/pva-vs-energized-excellence/
LOCATION:boys & girls club\, 5950 Selinsky Rd.\, Houston\, TX\, 77048\, United States
CATEGORIES:Academy,Athletics
END:VEVENT
BEGIN:VEVENT
DTSTART;TZID=UTC:20180927T053000
DTEND;TZID=UTC:20180927T183000
DTSTAMP:20260425T232126
CREATED:20180927T183104Z
LAST-MODIFIED:20180927T183104Z
UID:3734-1538026200-1538073000@provision-inc.org
SUMMARY:Parent University Meeting
DESCRIPTION:
URL:https://provision-inc.org/event/parent-university-meeting-2/
LOCATION:TX
CATEGORIES:Academy
END:VEVENT
BEGIN:VEVENT
DTSTART;TZID=UTC:20180921T190000
DTEND;TZID=UTC:20180921T210000
DTSTAMP:20260425T232126
CREATED:20180711T012246Z
LAST-MODIFIED:20180711T012246Z
UID:3327-1537556400-1537563600@provision-inc.org
SUMMARY:PVA vs. Cedar Hill Newman Academy
DESCRIPTION:
URL:https://provision-inc.org/event/pva-vs-cedar-hill-newman-academy/
LOCATION:Cedar Hill Newman Academy\, 1114 W Fm 1382\, Cedar Hill\, Cedar Hill\, Texas\, 75104
CATEGORIES:Academy,Athletics
END:VEVENT
BEGIN:VEVENT
DTSTART;TZID=UTC:20180918T170000
DTEND;TZID=UTC:20180918T190000
DTSTAMP:20260425T232126
CREATED:20180917T191657Z
LAST-MODIFIED:20180917T191657Z
UID:3669-1537290000-1537297200@provision-inc.org
SUMMARY:PVA Volleyball vs. Harmony School of Advancement (High School)
DESCRIPTION:
URL:https://provision-inc.org/event/pva-volleyball-vs-harmony-school-advancement-high-school/
LOCATION:Advancement Gym\, 3171 North Sam Houston Pkwy W\, Houston\, TX\, 77038\, United States
CATEGORIES:Academy,Athletics
END:VEVENT
BEGIN:VEVENT
DTSTART;TZID=UTC:20180917T170000
DTEND;TZID=UTC:20180917T190000
DTSTAMP:20260425T232126
CREATED:20180917T191430Z
LAST-MODIFIED:20180917T191430Z
UID:3667-1537203600-1537210800@provision-inc.org
SUMMARY:PVA Volleyball vs. Briarmeadow Charter (Middle School)
DESCRIPTION:
URL:https://provision-inc.org/event/pva-volleyball-vs-briarmeadow-charter-middle-school/
LOCATION:boys & girls club\, 5950 Selinsky Rd.\, Houston\, TX\, 77048\, United States
CATEGORIES:Academy,Athletics
END:VEVENT
BEGIN:VEVENT
DTSTART;TZID=UTC:20180917T080000
DTEND;TZID=UTC:20180917T170000
DTSTAMP:20260425T232126
CREATED:20180917T191004Z
LAST-MODIFIED:20180917T191004Z
UID:3662-1537171200-1537203600@provision-inc.org
SUMMARY:Middle School Picture Day
DESCRIPTION:
URL:https://provision-inc.org/event/middle-school-picture-day/
LOCATION:TX
CATEGORIES:Academy
END:VEVENT
BEGIN:VEVENT
DTSTART;TZID=UTC:20180914T190000
DTEND;TZID=UTC:20180914T210000
DTSTAMP:20260425T232126
CREATED:20180711T011744Z
LAST-MODIFIED:20180711T011744Z
UID:3319-1536951600-1536958800@provision-inc.org
SUMMARY:Football - PVA vs. KIPP Generations
DESCRIPTION:
URL:https://provision-inc.org/event/football-pva-vs-kipp-generations/
LOCATION:KIPP Generation\, 500 Tidwell Rd\, Houston\, Texas\, 77022
CATEGORIES:Academy,Athletics
END:VEVENT
BEGIN:VEVENT
DTSTART;TZID=UTC:20180906T190000
DTEND;TZID=UTC:20180906T210000
DTSTAMP:20260425T232126
CREATED:20180711T011547Z
LAST-MODIFIED:20180711T011547Z
UID:3316-1536260400-1536267600@provision-inc.org
SUMMARY:Football - PVA vs. Conroe Caney Creek
DESCRIPTION:
URL:https://provision-inc.org/event/football-pva-vs-conroe-caney-creek/
LOCATION:Conroe Caney Creek\, 13470 FM 1485\, Conroe\, TX\, 77306
CATEGORIES:Academy,Athletics
END:VEVENT
BEGIN:VEVENT
DTSTART;TZID=UTC:20180831T190000
DTEND;TZID=UTC:20180831T213000
DTSTAMP:20260425T232126
CREATED:20180711T011314Z
LAST-MODIFIED:20180711T011314Z
UID:3313-1535742000-1535751000@provision-inc.org
SUMMARY:Football - PVA vs. Beaumont Kelly
DESCRIPTION:
URL:https://provision-inc.org/event/football-pva-vs-beaumont-kelly/
LOCATION:Beaumont Kelley
CATEGORIES:Academy
END:VEVENT
BEGIN:VEVENT
DTSTART;TZID=UTC:20180730T093000
DTEND;TZID=UTC:20180730T170000
DTSTAMP:20260425T232126
CREATED:20180725T224420Z
LAST-MODIFIED:20180730T184720Z
UID:3582-1532943000-1532970000@provision-inc.org
SUMMARY:Sports Physicals
DESCRIPTION:Click here for physical form
URL:https://provision-inc.org/event/sports-physicals/
LOCATION:pro-vision academy\, 4590 Wilmington St.\, Houston\, TX\, 77089\, United States
CATEGORIES:Academy,Athletics
END:VEVENT
BEGIN:VEVENT
DTSTART;TZID=UTC:20180710T080000
DTEND;TZID=UTC:20180710T170000
DTSTAMP:20260425T232126
CREATED:20180711T011926Z
LAST-MODIFIED:20180711T011926Z
UID:3322-1531209600-1531242000@provision-inc.org
SUMMARY:Football - PVA vs. Cedar Hill Newman Academy
DESCRIPTION:
URL:https://provision-inc.org/event/football-pva-vs-cedar-hill-newman-academy/
LOCATION:Cedar Hill Newman Academy\, 1114 W Fm 1382\, Cedar Hill\, Cedar Hill\, Texas\, 75104
CATEGORIES:Academy,Athletics
END:VEVENT
BEGIN:VEVENT
DTSTART;TZID=UTC:20180628T090000
DTEND;TZID=UTC:20180628T113000
DTSTAMP:20260425T232126
CREATED:20180625T190520Z
LAST-MODIFIED:20180625T190520Z
UID:3283-1530176400-1530185400@provision-inc.org
SUMMARY:Biology STAAR Makeup Exam
DESCRIPTION:
URL:https://provision-inc.org/event/biology-staar-makeup-exam/
LOCATION:TX
CATEGORIES:Academy
END:VEVENT
BEGIN:VEVENT
DTSTART;TZID=UTC:20180627T110000
DTEND;TZID=UTC:20180627T140000
DTSTAMP:20260425T232126
CREATED:20180605T203500Z
LAST-MODIFIED:20180605T203714Z
UID:3207-1530097200-1530108000@provision-inc.org
SUMMARY:Cheerleading Try-out
DESCRIPTION:
URL:https://provision-inc.org/event/cheerleading-try-out/
LOCATION:pro-vision academy\, 4590 Wilmington St.\, Houston\, TX\, 77089\, United States
CATEGORIES:Academy
END:VEVENT
BEGIN:VEVENT
DTSTART;TZID=UTC:20180627T090000
DTEND;TZID=UTC:20180627T113000
DTSTAMP:20260425T232126
CREATED:20180625T190434Z
LAST-MODIFIED:20180625T190434Z
UID:3281-1530090000-1530099000@provision-inc.org
SUMMARY:English II STAAR Makeup Exam
DESCRIPTION:
URL:https://provision-inc.org/event/english-ii-staar-makeup-exam/
LOCATION:TX
CATEGORIES:Academy
END:VEVENT
BEGIN:VEVENT
DTSTART;TZID=UTC:20180626T120000
DTEND;TZID=UTC:20180626T140000
DTSTAMP:20260425T232126
CREATED:20180605T203415Z
LAST-MODIFIED:20180605T203415Z
UID:3205-1530014400-1530021600@provision-inc.org
SUMMARY:Cheerleading Mock Try-out
DESCRIPTION:
URL:https://provision-inc.org/event/cheerleading-mock-try/
LOCATION:pro-vision academy\, 4590 Wilmington St.\, Houston\, TX\, 77089\, United States
CATEGORIES:Academy
END:VEVENT
BEGIN:VEVENT
DTSTART;TZID=UTC:20180626T090000
DTEND;TZID=UTC:20180626T113000
DTSTAMP:20260425T232126
CREATED:20180625T190321Z
LAST-MODIFIED:20180625T190321Z
UID:3279-1530003600-1530012600@provision-inc.org
SUMMARY:Algebra & U.S. History STAAR Makeup Exam
DESCRIPTION:
URL:https://provision-inc.org/event/algebra-u-s-history-staar-makeup-exam/
LOCATION:TX
CATEGORIES:Academy
END:VEVENT
BEGIN:VEVENT
DTSTART;TZID=UTC:20180625T120000
DTEND;TZID=UTC:20180625T140000
DTSTAMP:20260425T232126
CREATED:20180605T203329Z
LAST-MODIFIED:20180605T203329Z
UID:3203-1529928000-1529935200@provision-inc.org
SUMMARY:Cheerleading Practice
DESCRIPTION:
URL:https://provision-inc.org/event/cheerleading-practice-4/
LOCATION:pro-vision academy\, 4590 Wilmington St.\, Houston\, TX\, 77089\, United States
CATEGORIES:Academy
END:VEVENT
BEGIN:VEVENT
DTSTART;TZID=UTC:20180618T120000
DTEND;TZID=UTC:20180621T140000
DTSTAMP:20260425T232126
CREATED:20180605T203253Z
LAST-MODIFIED:20180605T203253Z
UID:3201-1529323200-1529589600@provision-inc.org
SUMMARY:Cheerleading Practice
DESCRIPTION:
URL:https://provision-inc.org/event/cheerleading-practice-3/
LOCATION:pro-vision academy\, 4590 Wilmington St.\, Houston\, TX\, 77089\, United States
CATEGORIES:Academy
END:VEVENT
END:VCALENDAR